BEGIN:VCALENDAR
VERSION:2.0
METHOD:PUBLISH
PRODID:-//hacksw/handcal//NONSGML v1.0//EN
BEGIN:VEVENT
DTSTAMP:20260424T164710Z
DTSTART:20260416T140000Z
DTEND:20260416T200000Z
UID:20260416T140000Z-20260416T200000Z-811@insurance.delaware.gov
SUMMARY:CDCC 55+ Expo
DESCRIPTION:The 55+ Expo provides an opportunity for businesses throug
 hout the state of Delaware and nearby states to introduce\, market\, a
 nd showcase their goods and services to the 55+ population.
X-ALT-DESC;FMTTYPE=text/html:<p>The 55+ Expo provides an opportunity f
 or businesses throughout the state of Delaware and nearby states to in
 troduce\, market\, and showcase their goods and services to the 55+ po
 pulation.</p>\n
URL:https://insurance.delaware.gov/events/cdcc-55-expo-2026-0416/?lang
 =en
ATTACH:https://insurance.delaware.gov/events/cdcc-55-expo-2026-0416/?l
 ang=en
LOCATION:Bally's Dover Casino Resort\, 1131 North Dupont Highway\, Dov
 er
END:VEVENT
END:VCALENDAR
