BEGIN:VCALENDAR
VERSION:2.0
METHOD:PUBLISH
PRODID:-//hacksw/handcal//NONSGML v1.0//EN
BEGIN:VEVENT
DTSTAMP:20260424T195724Z
DTSTART:20260418T140000Z
DTEND:20260418T190000Z
UID:20260418T140000Z-20260418T190000Z-814@insurance.delaware.gov
SUMMARY:2026 Walk for Autism
DESCRIPTION:The Walk for Autism is Autism Delaware's largest event and
  community gathering. Funds raised through this event support individu
 als and families affected by autism throughout the state.
X-ALT-DESC;FMTTYPE=text/html:<p>The Walk for Autism is Autism Delaware
 &#8217\;s largest event and community gathering. Funds raised through 
 this event support individuals and families affected by autism through
 out the state.</p>\n
URL:https://insurance.delaware.gov/events/walk-for-autism-2026-0418/?l
 ang=en
ATTACH:https://insurance.delaware.gov/events/walk-for-autism-2026-0418
 /?lang=en
LOCATION:Dover Motor Speedway\, 1131 North Dupont Highway\, Dover
END:VEVENT
END:VCALENDAR
