BEGIN:VCALENDAR
VERSION:2.0
METHOD:PUBLISH
PRODID:-//hacksw/handcal//NONSGML v1.0//EN
BEGIN:VEVENT
DTSTAMP:20260424T165151Z
DTSTART:20260425T140000Z
DTEND:20260425T210000Z
UID:20260425T140000Z-20260425T210000Z-817@insurance.delaware.gov
SUMMARY:Bud and Bud Festival
DESCRIPTION:The Bug & Bud Festival is a celebration of two of Milford'
 s most cherished symbols\, the ladybug and nature. The festival also s
 erves as a celebration of Arbor Day and Milford's designation as a USA
  Tree City.
X-ALT-DESC;FMTTYPE=text/html:<p>The Bug &#038\; Bud Festival is a cele
 bration of two of Milford&#8217\;s most cherished symbols\, the ladybu
 g and nature. The festival also serves as a celebration of Arbor Day a
 nd Milford&#8217\;s designation as a USA Tree City.</p>\n
URL:https://insurance.delaware.gov/events/bud-and-bud-festival-2026-04
 25/?lang=en
ATTACH:https://insurance.delaware.gov/events/bud-and-bud-festival-2026
 -0425/?lang=en
LOCATION:Downtown Milford\, 10 South Walnut Strett\, Milford
END:VEVENT
END:VCALENDAR
