BEGIN:VCALENDAR
VERSION:2.0
METHOD:PUBLISH
PRODID:-//hacksw/handcal//NONSGML v1.0//EN
BEGIN:VEVENT
DTSTAMP:20260424T165153Z
DTSTART:20260502T140000Z
DTEND:20260502T210000Z
UID:20260502T140000Z-20260502T210000Z-820@insurance.delaware.gov
SUMMARY:Dover Days
DESCRIPTION:Celebrate Dover Days live music\, and hands-on crafts for 
 kids at the museum while exploring our featured exhibitions that highl
 ight art and Delaware history.
X-ALT-DESC;FMTTYPE=text/html:<p>Celebrate Dover Days live music\, and 
 hands-on crafts for kids at the museum while exploring our featured ex
 hibitions that highlight art and Delaware history.</p>\n
URL:https://insurance.delaware.gov/events/dover-days-2026-0502/?lang=e
 n
ATTACH:https://insurance.delaware.gov/events/dover-days-2026-0502/?lan
 g=en
LOCATION:The Green\, 25 The Green\, Dover
END:VEVENT
END:VCALENDAR
