BEGIN:VCALENDAR
VERSION:2.0
METHOD:PUBLISH
PRODID:-//hacksw/handcal//NONSGML v1.0//EN
BEGIN:VEVENT
DTSTAMP:20260424T165152Z
DTSTART:20260606T150000Z
DTEND:20260606T220000Z
UID:20260606T150000Z-20260606T220000Z-823@insurance.delaware.gov
SUMMARY:Delaware Pride Festival
DESCRIPTION:Celebrate diversity\, acceptance\, and unity. This vibrant
  event showcases the strength and creativity of the LGBTQIA+ community
  and its allies.
X-ALT-DESC;FMTTYPE=text/html:<p>Celebrate diversity\, acceptance\, and
  unity. This vibrant event showcases the strength and creativity of th
 e LGBTQIA+ community and its allies.</p>\n
URL:https://insurance.delaware.gov/events/delaware-pride-festival-2026
 -0606/?lang=en
ATTACH:https://insurance.delaware.gov/events/delaware-pride-festival-2
 026-0606/?lang=en
LOCATION:The Green\, 25 The Green\, Dover
END:VEVENT
END:VCALENDAR
