BEGIN:VCALENDAR
VERSION:2.0
METHOD:PUBLISH
PRODID:-//hacksw/handcal//NONSGML v1.0//EN
BEGIN:VEVENT
DTSTAMP:20260424T195724Z
DTSTART:20260613T190000Z
DTEND:20260614T000000Z
UID:20260613T190000Z-20260614T000000Z-826@insurance.delaware.gov
SUMMARY:Separation Day Festival
DESCRIPTION:Celebrate the anniversary of our independence from PA and 
 the British Crown with a town parade\, local vendors\, live music\, fa
 mily fun events\, rides & fireworks!
X-ALT-DESC;FMTTYPE=text/html:<p>Celebrate the anniversary of our indep
 endence from PA and the British Crown with a town parade\, local vendo
 rs\, live music\, family fun events\, rides &#038\; fireworks!</p>\n
URL:https://insurance.delaware.gov/events/separation-day-festival-2026
 -0613/?lang=en
ATTACH:https://insurance.delaware.gov/events/separation-day-festival-2
 026-0613/?lang=en
LOCATION:Historic New Castle\, 211 Delaware Street\, New Castle
END:VEVENT
END:VCALENDAR
