BEGIN:VCALENDAR
VERSION:2.0
METHOD:PUBLISH
PRODID:-//hacksw/handcal//NONSGML v1.0//EN
BEGIN:VEVENT
DTSTAMP:20260424T165152Z
DTSTART:20260625T140000Z
DTEND:20260625T200000Z
UID:20260625T140000Z-20260625T200000Z-829@insurance.delaware.gov
SUMMARY:Delaware Business Owners Summit 2026
DESCRIPTION:The Delaware Business Owner Summit (DBOS) is a one-day exp
 erience designed for business owners\, executives\, and professionals 
 who want practical insight\, meaningful conversations\, and real conne
 ction with peers across Delaware.
X-ALT-DESC;FMTTYPE=text/html:<p>The Delaware Business Owner Summit (DB
 OS) is a one-day experience designed for business owners\, executives\
 , and professionals who want practical insight\, meaningful conversati
 ons\, and real connection with peers across Delaware.</p>\n
URL:https://insurance.delaware.gov/events/delaware-business-owners-sum
 mit-2026-0625/?lang=en
ATTACH:https://insurance.delaware.gov/events/delaware-business-owners-
 summit-2026-0625/?lang=en
LOCATION:Dewey Beach\, \, Dewey Beach
END:VEVENT
END:VCALENDAR
