BEGIN:VCALENDAR
VERSION:2.0
METHOD:PUBLISH
PRODID:-//hacksw/handcal//NONSGML v1.0//EN
BEGIN:VEVENT
DTSTAMP:20260425T173028Z
DTSTART:20260627T180000Z
DTEND:20260628T023000Z
UID:20260627T180000Z-20260628T023000Z-832@insurance.delaware.gov
SUMMARY:New Castle Ice Cream Festival
DESCRIPTION:Quintessential summer festival features lots of ice cream\
 , live local music\, kids' activities\, family entertainment\, a maker
  market\, fantastic food\, museum tours\, fireworks\, and lots more!
X-ALT-DESC;FMTTYPE=text/html:<p>Quintessential summer festival feature
 s lots of ice cream\, live local music\, kids&#8217\; activities\, fam
 ily entertainment\, a maker market\, fantastic food\, museum tours\, f
 ireworks\, and lots more!</p>\n
URL:https://insurance.delaware.gov/events/new-castle-ice-cream-festiva
 l-2026-0627/?lang=en
ATTACH:https://insurance.delaware.gov/events/new-castle-ice-cream-fest
 ival-2026-0627/?lang=en
LOCATION:Rockwood Park\, 501 Carr Road\, Wilmington
END:VEVENT
END:VCALENDAR
