BEGIN:VCALENDAR
VERSION:2.0
METHOD:PUBLISH
PRODID:-//hacksw/handcal//NONSGML v1.0//EN
BEGIN:VEVENT
DTSTAMP:20260425T150454Z
DTSTART:20260627T160000Z
DTEND:20260627T230000Z
UID:20260627T160000Z-20260627T230000Z-835@insurance.delaware.gov
SUMMARY:African American Festival
DESCRIPTION:Quintessential summer festival features lots of ice cream\
 , live local music\, kids' activities\, family entertainment\, a maker
  market\, fantastic food\, museum tours\, fireworks\, and lots more!
X-ALT-DESC;FMTTYPE=text/html:<p>Quintessential summer festival feature
 s lots of ice cream\, live local music\, kids&#8217\; activities\, fam
 ily entertainment\, a maker market\, fantastic food\, museum tours\, f
 ireworks\, and lots more!</p>\n
URL:https://insurance.delaware.gov/events/african-american-festival-20
 26-0627/?lang=en
ATTACH:https://insurance.delaware.gov/events/african-american-festival
 -2026-0627/?lang=en
LOCATION:The Green\, 25 The Green\, Dover
END:VEVENT
END:VCALENDAR
