BEGIN:VCALENDAR
VERSION:2.0
METHOD:PUBLISH
PRODID:-//hacksw/handcal//NONSGML v1.0//EN
BEGIN:VEVENT
DTSTAMP:20260425T115532Z
DTSTART:20260704T160000Z
DTEND:20260704T230000Z
UID:20260704T160000Z-20260704T230000Z-838@insurance.delaware.gov
SUMMARY:4th of July Celebration
DESCRIPTION:Light up the sky\, fill the streets with music and laughte
 r\, and show the world what it means to be Americans. Celebrating 250 
 years of America.
X-ALT-DESC;FMTTYPE=text/html:<p>Light up the sky\, fill the streets wi
 th music and laughter\, and show the world what it means to be America
 ns. Celebrating 250 years of America.</p>\n
URL:https://insurance.delaware.gov/events/4th-of-july-celebration-2026
 -0704/?lang=en
ATTACH:https://insurance.delaware.gov/events/4th-of-july-celebration-2
 026-0704/?lang=en
LOCATION:The Green\, 25 The Green\, Dover
END:VEVENT
END:VCALENDAR
