BEGIN:VCALENDAR
VERSION:2.0
METHOD:PUBLISH
PRODID:-//hacksw/handcal//NONSGML v1.0//EN
BEGIN:VEVENT
DTSTAMP:20260426T001918Z
DTSTART:20260801T140000Z
DTEND:20260801T200000Z
UID:20260801T140000Z-20260801T200000Z-841@insurance.delaware.gov
SUMMARY:Wyoming Peach Festival
DESCRIPTION:Come explore the streets of Wyoming which will be lined wi
 th crafters\, food vendors and so much more.
X-ALT-DESC;FMTTYPE=text/html:<p>Come explore the streets of Wyoming wh
 ich will be lined with crafters\, food vendors and so much more.</p>\n
URL:https://insurance.delaware.gov/events/wyoming-peach-festival-2026-
 0801/?lang=en
ATTACH:https://insurance.delaware.gov/events/wyoming-peach-festival-20
 26-0801/?lang=en
LOCATION:Wyoming\, \, Wyoming
END:VEVENT
END:VCALENDAR
