BEGIN:VCALENDAR
VERSION:2.0
METHOD:PUBLISH
PRODID:-//hacksw/handcal//NONSGML v1.0//EN
BEGIN:VEVENT
DTSTAMP:20260425T132727Z
DTSTART:20260815T140000Z
DTEND:20260815T210000Z
UID:20260815T140000Z-20260815T210000Z-845@insurance.delaware.gov
SUMMARY:Middletown Peach Festival
DESCRIPTION:The Peach festival has activities for children\, a local a
 rtist exhibit\, historical exhibits\, a peach pie contest\, crafts\, m
 usic\, food\, games\, and of course – Peaches!
X-ALT-DESC;FMTTYPE=text/html:<p>The Peach festival has activities for 
 children\, a local artist exhibit\, historical exhibits\, a peach pie 
 contest\, crafts\, music\, food\, games\, and of course – Peaches! </p
 >\n
URL:https://insurance.delaware.gov/events/middletown-peach-festival-20
 26-0815/?lang=en
ATTACH:https://insurance.delaware.gov/events/middletown-peach-festival
 -2026-0815/?lang=en
LOCATION:Middletown Peach Festival\, Main Street\, Middletown
END:VEVENT
END:VCALENDAR
