BEGIN:VCALENDAR
VERSION:2.0
METHOD:PUBLISH
PRODID:-//hacksw/handcal//NONSGML v1.0//EN
BEGIN:VEVENT
DTSTAMP:20260425T115533Z
DTSTART:20260912T150000Z
DTEND:20260912T230000Z
UID:20260912T150000Z-20260912T230000Z-848@insurance.delaware.gov
SUMMARY:Brandywine Festival of the Arts
DESCRIPTION:The Brandywine Festival of the Arts is an annual arts fest
 ival in Wilmington\, Delaware held the weekend after Labor Day. The fe
 stival is a Delaware tradition spanning over half a century and it is 
 the largest arts festival in the state.
X-ALT-DESC;FMTTYPE=text/html:<p><strong>The Brandywine Festival of the
  Arts</strong> is an annual arts festival in Wilmington\, Delaware hel
 d the weekend after Labor Day. The festival is a Delaware tradition sp
 anning over half a century and it is the largest arts festival in the 
 state. </p>\n
URL:https://insurance.delaware.gov/events/brandywine-festival-of-the-a
 rts-2026-0912/?lang=en
ATTACH:https://insurance.delaware.gov/events/brandywine-festival-of-th
 e-arts-2026-0912/?lang=en
LOCATION:Brandywine Festival of the Arts\, 1001 N Park Dr\, Wilmington
END:VEVENT
END:VCALENDAR
