BEGIN:VCALENDAR
VERSION:2.0
METHOD:PUBLISH
PRODID:-//hacksw/handcal//NONSGML v1.0//EN
BEGIN:VEVENT
DTSTAMP:20260425T203313Z
DTSTART:20260919T140000Z
DTEND:20260919T210000Z
UID:20260919T140000Z-20260919T210000Z-854@insurance.delaware.gov
SUMMARY:Milford Freedom Festival
DESCRIPTION:Milford’s largest annual outdoor festival\, the Riverwalk 
 Freedom Festival\, is hosted by the Chamber of Commerce for Greater Mi
 lford to commemorate the anniversary of September 11\, 2001.
X-ALT-DESC;FMTTYPE=text/html:<p>Milford’s largest annual outdoor festi
 val\, the Riverwalk Freedom Festival\, is hosted by the Chamber of Com
 merce for Greater Milford to commemorate the anniversary of September 
 11\, 2001.</p>\n
URL:https://insurance.delaware.gov/events/milford-freedom-festival-202
 6-0919/?lang=en
ATTACH:https://insurance.delaware.gov/events/milford-freedom-festival-
 2026-0919/?lang=en
LOCATION:Downtown Milford\, \, Milford
END:VEVENT
END:VCALENDAR
