BEGIN:VCALENDAR
VERSION:2.0
METHOD:PUBLISH
PRODID:-//hacksw/handcal//NONSGML v1.0//EN
BEGIN:VEVENT
DTSTAMP:20260426T001918Z
DTSTART:20260920T150000Z
DTEND:20260920T200000Z
UID:20260920T150000Z-20260920T200000Z-860@insurance.delaware.gov
SUMMARY:2026 Fall Home Expo
DESCRIPTION:As the fall season approaches\, local homeowners begin pre
 paring for indoor entertaining and holiday gatherings — making this th
 e perfect time to explore the latest in home upgrades and improvements
 .
X-ALT-DESC;FMTTYPE=text/html:<p>As the fall season approaches\, local 
 homeowners begin preparing for indoor entertaining and holiday gatheri
 ngs — making this the perfect time to explore the latest in home upgra
 des and improvements.</p>\n
URL:https://insurance.delaware.gov/events/2026-fall-home-expo-2026-092
 0/?lang=en
ATTACH:https://insurance.delaware.gov/events/2026-fall-home-expo-2026-
 0920/?lang=en
LOCATION:Cape Henlopen High School\, 1250 Kings Highway\, Lewes
END:VEVENT
END:VCALENDAR
