BEGIN:VCALENDAR
VERSION:2.0
METHOD:PUBLISH
PRODID:-//hacksw/handcal//NONSGML v1.0//EN
BEGIN:VEVENT
DTSTAMP:20260425T132732Z
DTSTART:20260920T160000Z
DTEND:20260921T000000Z
UID:20260920T160000Z-20260921T000000Z-863@insurance.delaware.gov
SUMMARY:Festival Hispano Georgetown
DESCRIPTION:There will be music and dances performed by local\, nation
 al\, and international groups\, traditional arts and crafts\, and of c
 ourse delicious traditional food with an emphasis on Latino cuisine.
X-ALT-DESC;FMTTYPE=text/html:<p>There will be music and dances perform
 ed by local\, national\, and international groups\, traditional arts a
 nd crafts\, and of course delicious traditional food with an emphasis 
 on Latino cuisine.</p>\n
URL:https://insurance.delaware.gov/events/festival-hispano-georgetown-
 2026-0920/?lang=en
ATTACH:https://insurance.delaware.gov/events/festival-hispano-georgeto
 wn-2026-0920/?lang=en
LOCATION:Festival Hispano\, 111 N Race Street\, Georgetown
END:VEVENT
END:VCALENDAR
