BEGIN:VCALENDAR
VERSION:2.0
METHOD:PUBLISH
PRODID:-//hacksw/handcal//NONSGML v1.0//EN
BEGIN:VEVENT
DTSTAMP:20260425T150503Z
DTSTART:20261010T140000Z
DTEND:20261010T213000Z
UID:20261010T140000Z-20261010T213000Z-865@insurance.delaware.gov
SUMMARY:Apple Scrapple Festival
DESCRIPTION:The Festival is still run by volunteers organizing the ent
 ertainment\, food court and vendors that flood into town on that weeke
 nd each year.
X-ALT-DESC;FMTTYPE=text/html:<p>The Festival is still run by volunteer
 s organizing the entertainment\, food court and vendors that flood int
 o town on that weekend each year.</p>\n
URL:https://insurance.delaware.gov/events/apple-scrapple-festival-2026
 -1010/?lang=en
ATTACH:https://insurance.delaware.gov/events/apple-scrapple-festival-2
 026-1010/?lang=en
LOCATION:Apple Scrapple Festival\, \, Georgetown
END:VEVENT
END:VCALENDAR
