BEGIN:VCALENDAR
VERSION:2.0
METHOD:PUBLISH
PRODID:-//hacksw/handcal//NONSGML v1.0//EN
BEGIN:VEVENT
DTSTAMP:20260425T132724Z
DTSTART:20261107T140000Z
DTEND:20261107T210000Z
UID:20261107T140000Z-20261107T210000Z-868@insurance.delaware.gov
SUMMARY:2026 Annual Delaware Resorts 55+ Expo
DESCRIPTION:Exhibitors include health and wellness firms\, medical fac
 ilities and services\, home healthcare agencies\, physical therapy pro
 viders\, physical fitness programs\, 55+ residential communities\, rea
 ltors\, home builders and renovators\, bankers\, insurance\, financial
  and legal firms\,  as well as the newest home product and service com
 panies.
X-ALT-DESC;FMTTYPE=text/html:<p>Exhibitors include health and wellness
  firms\, medical facilities and services\, home healthcare agencies\, 
 physical therapy providers\, physical fitness programs\, 55+ residenti
 al communities\, realtors\, home builders and renovators\, bankers\, i
 nsurance\, financial and legal firms\,  as well as the newest home pro
 duct and service companies.</p>\n
URL:https://insurance.delaware.gov/events/annual-delaware-resorts-55-e
 xpo-2026-1107/?lang=en
ATTACH:https://insurance.delaware.gov/events/annual-delaware-resorts-5
 5-expo-2026-1107/?lang=en
LOCATION:Cape Henlopen High School\, 1250 Kings Highway\, Lewes
END:VEVENT
END:VCALENDAR
